BEGIN:VCALENDAR
VERSION:2.0
PRODID:-//Kielder Water Sailing Club - ECPv6.15.20//NONSGML v1.0//EN
CALSCALE:GREGORIAN
METHOD:PUBLISH
X-WR-CALNAME:Kielder Water Sailing Club
X-ORIGINAL-URL:https://kielderwatersailing.club
X-WR-CALDESC:Events for Kielder Water Sailing Club
REFRESH-INTERVAL;VALUE=DURATION:PT1H
X-Robots-Tag:noindex
X-PUBLISHED-TTL:PT1H
BEGIN:VTIMEZONE
TZID:Europe/London
BEGIN:DAYLIGHT
TZOFFSETFROM:+0000
TZOFFSETTO:+0100
TZNAME:BST
DTSTART:20240331T010000
END:DAYLIGHT
BEGIN:STANDARD
TZOFFSETFROM:+0100
TZOFFSETTO:+0000
TZNAME:GMT
DTSTART:20241027T010000
END:STANDARD
BEGIN:DAYLIGHT
TZOFFSETFROM:+0000
TZOFFSETTO:+0100
TZNAME:BST
DTSTART:20250330T010000
END:DAYLIGHT
BEGIN:STANDARD
TZOFFSETFROM:+0100
TZOFFSETTO:+0000
TZNAME:GMT
DTSTART:20251026T010000
END:STANDARD
BEGIN:DAYLIGHT
TZOFFSETFROM:+0000
TZOFFSETTO:+0100
TZNAME:BST
DTSTART:20260329T010000
END:DAYLIGHT
BEGIN:STANDARD
TZOFFSETFROM:+0100
TZOFFSETTO:+0000
TZNAME:GMT
DTSTART:20261025T010000
END:STANDARD
END:VTIMEZONE
BEGIN:VEVENT
DTSTART;TZID=Europe/London:20250406T110000
DTEND;TZID=Europe/London:20251123T170000
DTSTAMP:20260422T225921
CREATED:20250323T134141Z
LAST-MODIFIED:20250323T134332Z
UID:2430-1743937200-1763917200@kielderwatersailing.club
SUMMARY:2025 Sailing Program
DESCRIPTION:Our 2025 program commences from 6th April 2025. Further information can be found here: \nProgram \nDuties \nDon’t forget to join our Spond group where you can find out more about what is happening. See here: Spond
URL:https://kielderwatersailing.club/event/2025-sailing-program/
END:VEVENT
END:VCALENDAR